BEGIN:VCALENDAR
VERSION:2.0
PRODID:-//Louisville Shaolin-Do - ECPv6.15.20//NONSGML v1.0//EN
CALSCALE:GREGORIAN
METHOD:PUBLISH
X-ORIGINAL-URL:https://www.louisvilleshaolindo.com
X-WR-CALDESC:Events for Louisville Shaolin-Do
REFRESH-INTERVAL;VALUE=DURATION:PT1H
X-Robots-Tag:noindex
X-PUBLISHED-TTL:PT1H
BEGIN:VTIMEZONE
TZID:America/Kentucky/Louisville
BEGIN:DAYLIGHT
TZOFFSETFROM:-0500
TZOFFSETTO:-0400
TZNAME:EDT
DTSTART:20240310T070000
END:DAYLIGHT
BEGIN:STANDARD
TZOFFSETFROM:-0400
TZOFFSETTO:-0500
TZNAME:EST
DTSTART:20241103T060000
END:STANDARD
BEGIN:DAYLIGHT
TZOFFSETFROM:-0500
TZOFFSETTO:-0400
TZNAME:EDT
DTSTART:20250309T070000
END:DAYLIGHT
BEGIN:STANDARD
TZOFFSETFROM:-0400
TZOFFSETTO:-0500
TZNAME:EST
DTSTART:20251102T060000
END:STANDARD
BEGIN:DAYLIGHT
TZOFFSETFROM:-0500
TZOFFSETTO:-0400
TZNAME:EDT
DTSTART:20260308T070000
END:DAYLIGHT
BEGIN:STANDARD
TZOFFSETFROM:-0400
TZOFFSETTO:-0500
TZNAME:EST
DTSTART:20261101T060000
END:STANDARD
END:VTIMEZONE
BEGIN:VEVENT
DTSTART;TZID=America/Kentucky/Louisville:20250917T180000
DTEND;TZID=America/Kentucky/Louisville:20250917T190000
DTSTAMP:20260419T191844
CREATED:20250626T144123Z
LAST-MODIFIED:20250626T154151Z
UID:271-1758132000-1758135600@www.louisvilleshaolindo.com
SUMMARY:Rank Advancement Test
DESCRIPTION:Elder Master John Price will conduct our quarterly rank advancement test for all students who are ready to advance.
URL:https://www.louisvilleshaolindo.com/event/rank-advancement-test/
LOCATION:Louisville Shaolin-Do\, 6407 Preston Hwy\, Louisville\, KY\, 40219\, United States
ORGANIZER;CN="Louisville Shaolin-Do":MAILTO:louisvilleshaolindo@gmail.com
END:VEVENT
BEGIN:VEVENT
DTSTART;TZID=America/Kentucky/Louisville:20250920T090000
DTEND;TZID=America/Kentucky/Louisville:20250920T180000
DTSTAMP:20260419T191844
CREATED:20250626T142255Z
LAST-MODIFIED:20250626T154138Z
UID:257-1758358800-1758391200@www.louisvilleshaolindo.com
SUMMARY:Fall Gathering & Tournament
DESCRIPTION:Grandmaster Sin Thé and the Sin Thé Karate School will host our annual fall gathering and tournament for all Shaolin-Do students in Lexington\, KY. Join your fellow Shaolin-Do students from across the Unites States as they make their yearly pilgrimage to Lexington to compete in Grandmaster Sin Thé’s annual tournament and fall gathering! Compete in empty hand forms\, weapon forms\, internal systems\, and sparring or any combination at no extra charge. Test your skills and join your classmates\, as well as many other Shaolin-Do students\, by competing! Enter as many events as you like for one price! \nAnd this year we have a new venue! We will be at the Lexington Ice Center in Lexington.
URL:https://www.louisvilleshaolindo.com/event/fall-gathering-tournament/
LOCATION:Lexington Ice Center\, 560 Eureka Springs\, Lexington\, KY\, 40517\, United States
ATTACH;FMTTYPE=image/jpeg:https://www.louisvilleshaolindo.com/wp-content/uploads/2025/06/tournament-01.jpg
ORGANIZER;CN="Sin Th%C3%A9 Karate School":MAILTO:sinthekarateschool@gmail.com
END:VEVENT
END:VCALENDAR